BEGIN:VCALENDAR
VERSION:2.0
PRODID:-//ExpressionEngine Easy iCalendar plugin//NONSGML v1.1.1//EN
BEGIN:VEVENT
UID:event
LOCATION:\, Lenfest Center for the Arts
DTSTAMP:20210221T33900Z
DTSTART;TZID=America/New_York:20171019T190000
DTEND;TZID=America/New_York:
SUMMARY:CINEMA OF RESISTANCE: Army of Shadows by Jean-Pierre Melvill
 e (1969)
DESCRIPTION:Seven films about forms of resistance.
END:VEVENT
END:VCALENDAR