BEGIN:VCALENDAR
VERSION:2.0
PRODID:-//ExpressionEngine Easy iCalendar plugin//NONSGML v1.1.1//EN
BEGIN:VEVENT
UID:event
LOCATION:Lenfest Center for the Arts
DTSTAMP:20210221T32900Z
DTSTART;TZID=America/New_York:20171026T190000
DTEND;TZID=America/New_York:
SUMMARY:CINEMA OF RESISTANCE: Swagger by Olivier Babinet (2016)
DESCRIPTION:Seven films about forms of resistance
END:VEVENT
END:VCALENDAR