BEGIN:VCALENDAR
VERSION:2.0
PRODID:-//ExpressionEngine Easy iCalendar plugin//NONSGML v1.1.1//EN
BEGIN:VEVENT
UID:event
LOCATION:Corkscrew Theater Festival
DTSTAMP:20210221T33800Z
DTSTART;TZID=America/New_York:20170815T200000
DTEND;TZID=America/New_York:20170902T000000
SUMMARY:Event of Note: Morgaine Gooding-Silverwood’s “Cradle Two
  Grave”
DESCRIPTION:Combining elements of Greek tragedy with contemporary devise
 d theatre\, Cradle Two Grave uses authentic found recording
 s\, interviews\, original music and raw text to draw its audie
 nce into the ongoing tug-of-war between twin sisters and chr
 onic mental illness. While our patient Frances takes us on a
  journey through the fraught history of mental illness by wa
 y of her own experiences in and out of treatment\, her twin s
 ister\, Mo\, grapples with her own fears and frustrations. Mo 
 ultimately comes to terms with that which she cannot control
  - her sister’s diagnosis\, and her unconditional love for 
 the diagnosed.
END:VEVENT
END:VCALENDAR