BEGIN:VCALENDAR
VERSION:2.0
PRODID:-//ExpressionEngine Easy iCalendar plugin//NONSGML v1.1.1//EN
BEGIN:VEVENT
UID:event
LOCATION:Barnard Hall\, Sulzberger Parlor
DTSTAMP:20210221T33700Z
DTSTART;TZID=America/New_York:20170918T190000
DTEND;TZID=America/New_York:
SUMMARY:Women Poets at Barnard
DESCRIPTION:Donna Masini’s third book of poems\, 4:30 Movie\, is forth
 coming in 2018. She is also the author of Turning to Fictio
 n and That Kind of Danger (which won the 1994 Barnard Wom
 en Poets Prize)\, as well as About Yvonne\, a novel. “Donna
  Masini’s poems are …urban\, sexual\, working-class\, passi
 onate\, marked by great moral intelligence and generosity.  
 She is one of the marvelous new poets this country is genera
 ting in a terrible time” (Adrienne Rich). She is Professor
  of English at Hunter College\, where she teaches in the MFA 
 Creative Writing program. Sharon Olds is the author of thir
 teen books of poetry\, including the recent Odes\, and Stag
 s Leap\, which won the 2013 Pulitzer Prize. Her work is “
 remarkable for its candor\, its eroticism\, and its power to m
 ove” (David Leavitt). She teaches at New York University.
 Brittany Perham’s Double Portrait won the 2016 Barnard W
 omen Poets Prize\, chosen by Claudia Rankine for poems that a
 re “by turns playful\, mournful\, indulgent\, musical\, insigh
 tful\, and all the way human.” She is a Jones Lecturer in P
 oetry at Stanford University\, where she was a Wallace Stegne
 r Fellow.
END:VEVENT
END:VCALENDAR