BEGIN:VCALENDAR
VERSION:2.0
PRODID:-//ExpressionEngine Easy iCalendar plugin//NONSGML v1.1.1//EN
BEGIN:VEVENT
UID:event
LOCATION:Barnard Hall\, Held Lecture Hall\, 3rd Floor
DTSTAMP:20210221T33100Z
DTSTART;TZID=America/New_York:20171116T190000
DTEND;TZID=America/New_York:
SUMMARY:Women Poets at Barnard: Gwendolyn Brooks: A Centennial Celeb
 ration
DESCRIPTION:A major American poet of the twentieth century\, Gwendolyn B
 rooks is a writer of great formal mastery and intimate obse
 rvation\, most beautifully of the Chicago communities she wri
 tes of\, the people who make “a sugar of/The malocclusions\,
  the inconditions of love.” 
END:VEVENT
END:VCALENDAR