BEGIN:VCALENDAR
VERSION:2.0
PRODID:-//ExpressionEngine Easy iCalendar plugin//NONSGML v1.1.1//EN
BEGIN:VEVENT
UID:event
LOCATION:Jerome Greene Hall (Law School)
DTSTAMP:20210221T33700Z
DTSTART;TZID=America/New_York:20170821T90000
DTEND;TZID=America/New_York:20171117T000000
SUMMARY:Event of Note: WINDOWS ON DEATH ROW: Art From Inside and Out
 side the Prison Walls
DESCRIPTION:Images can trigger conversations\, sometimes far better than 
 words. Internationally known political cartoonist Patrick Ch
 appatte and journalist Anne-Frederique Widmann have come tog
 ether to organize a one of a kind exhibition\, entitled WIND
 OWS ON DEATH ROW: Art From Inside and Outside the Prison Wal
 ls. 
END:VEVENT
END:VCALENDAR