BEGIN:VCALENDAR
VERSION:2.0
PRODID:-//ExpressionEngine Easy iCalendar plugin//NONSGML v1.1.1//EN
BEGIN:VEVENT
UID:event
LOCATION:Low Memorial Library\, Low Library Rotunda
DTSTAMP:20210221T32600Z
DTSTART;TZID=America/New_York:20170914T181500
DTEND;TZID=America/New_York:20170914T204500
SUMMARY:Uprising 13/13: The Modern Concept of Revolution
DESCRIPTION:1/13 | THE MODERN CONCEPT OF REVOLUTION\n\n 
END:VEVENT
END:VCALENDAR