BEGIN:VCALENDAR
VERSION:2.0
PRODID:-//ExpressionEngine Easy iCalendar plugin//NONSGML v1.1.1//EN
BEGIN:VEVENT
UID:event
LOCATION:The Heyman Center\, Second Floor Common Room
DTSTAMP:20210221T32900Z
DTSTART;TZID=America/New_York:20170921T190000
DTEND;TZID=America/New_York:20170921T201500
SUMMARY:A Poetics of Politics? A talk by Terrance Hayes
DESCRIPTION:Terrance Hayes is the author of several books of poetry\, in
 cluding How to Be Drawn\; Lighthead\, which won the 2010 Nat
 ional Book Award for poetry\; Muscular Music\, which won the 
 Kate Tufts Discovery Award\; and Hip Logic\, winner of the 20
 01 National Poetry Series. A recipient of a fellowship from 
 the MacArthur Foundation\, he is a chancellor of the Academy 
 of American Poets\, poetry editor at New York Times Magazine
 \, and Distinguished Writer in Residence at NYU.\n\n 
END:VEVENT
END:VCALENDAR