BEGIN:VCALENDAR
VERSION:2.0
PRODID:-//ExpressionEngine Easy iCalendar plugin//NONSGML v1.1.1//EN
BEGIN:VEVENT
UID:event
LOCATION:\, Jerome Greene Annex
DTSTAMP:20210221T33500Z
DTSTART;TZID=America/New_York:20171109T181500
DTEND;TZID=America/New_York:20171109T204500
SUMMARY:Uprising 13/13: #BlackLivesMatter
DESCRIPTION:4/13 | #BLACKLIVESMATTER
END:VEVENT
END:VCALENDAR