BEGIN:VCALENDAR
VERSION:2.0
PRODID:-//ExpressionEngine Easy iCalendar plugin//NONSGML v1.1.1//EN
BEGIN:VEVENT
UID:event
LOCATION:\, The Center for Science & Society\, 513 Fayerweather Hall
DTSTAMP:20210221T33600Z
DTSTART;TZID=America/New_York:20170925T90000
DTEND;TZID=America/New_York:20170926T000000
SUMMARY:Material & Institutional Aspects of Field & Discipline Forma
 tion
DESCRIPTION:How do fields\, disciplines\, and larger formations such as 
 the sciences” or “the humanities” come into being? Wh
 at roles do objects\, institutions\, and materialized concepts
  play in these processes? These are some of the questions ad
 dressed by this two-day exploratory workshop.
END:VEVENT
END:VCALENDAR