BEGIN:VCALENDAR
VERSION:2.0
PRODID:-//ExpressionEngine Easy iCalendar plugin//NONSGML v1.1.1//EN
BEGIN:VEVENT
UID:event
LOCATION:\, Maison Francaise
DTSTAMP:20210221T33800Z
DTSTART;TZID=America/New_York:20171130T181500
DTEND;TZID=America/New_York:20171130T204500
SUMMARY:Uprising 13/13: Satyagraha
DESCRIPTION:5/13 | SATYAGRAHA
END:VEVENT
END:VCALENDAR