BEGIN:VCALENDAR
VERSION:2.0
PRODID:-//ExpressionEngine Easy iCalendar plugin//NONSGML v1.1.1//EN
BEGIN:VEVENT
UID:event
LOCATION:\, Columbia Global Center\, Reid Hall | Paris
DTSTAMP:20210221T33200Z
DTSTART;TZID=America/New_York:20180109T181500
DTEND;TZID=America/New_York:20180109T204500
SUMMARY:Uprising 13/13: Disobedience
DESCRIPTION:7/13 | DISOBEDIENCE
END:VEVENT
END:VCALENDAR