BEGIN:VCALENDAR
VERSION:2.0
PRODID:-//ExpressionEngine Easy iCalendar plugin//NONSGML v1.1.1//EN
BEGIN:VEVENT
UID:event
LOCATION:\, Main Chapel of Riverside Church\; 409 Riverside Drive
DTSTAMP:20210221T33300Z
DTSTART;TZID=America/New_York:20180118T181500
DTEND;TZID=America/New_York:20180118T204500
SUMMARY:Uprising 13/13: Breaking Silence
DESCRIPTION:8/13 | BREAKING SILENCE
END:VEVENT
END:VCALENDAR