BEGIN:VCALENDAR
VERSION:2.0
PRODID:-//ExpressionEngine Easy iCalendar plugin//NONSGML v1.1.1//EN
BEGIN:VEVENT
UID:event
LOCATION:Jerome Greene Hall (Law School)\, Jerome Greene Annex
DTSTAMP:20210221T33600Z
DTSTART;TZID=America/New_York:20180301T181500
DTEND;TZID=America/New_York:20180301T204500
SUMMARY:Uprising 13/13:From Anti-Imperialism & Independence to Auton
 omia\, Insurrection\, & Self-Determination
DESCRIPTION:10/13 | ANTI-IMPERIALISM/INDEPENDENCE
END:VEVENT
END:VCALENDAR