BEGIN:VCALENDAR
VERSION:2.0
PRODID:-//ExpressionEngine Easy iCalendar plugin//NONSGML v1.1.1//EN
BEGIN:VEVENT
UID:event
LOCATION:The Heyman Center\, Second Floor Common Room
DTSTAMP:20210221T33800Z
DTSTART;TZID=America/New_York:20120413T93000
DTEND;TZID=America/New_York:20120413T180000
SUMMARY:OSS\, Intelligence\, and Knowledge of the World
DESCRIPTION:This conference\, an installment of the Disciplines Series\, f
 eatures a number of prominent historians and anthropologists
  from across the country.
END:VEVENT
END:VCALENDAR