BEGIN:VCALENDAR
VERSION:2.0
PRODID:-//ExpressionEngine Easy iCalendar plugin//NONSGML v1.1.1//EN
BEGIN:VEVENT
UID:event
LOCATION:The Heyman Center\, Second Floor Common Room
DTSTAMP:20210221T32700Z
DTSTART;TZID=America/New_York:20180322T181500
DTEND;TZID=America/New_York:20180322T204500
SUMMARY:Uprising 13/13: Hacktivism
DESCRIPTION:11/13 | HACKTIVISM
END:VEVENT
END:VCALENDAR