BEGIN:VCALENDAR
VERSION:2.0
PRODID:-//ExpressionEngine Easy iCalendar plugin//NONSGML v1.1.1//EN
BEGIN:VEVENT
UID:event
LOCATION:Jerome Greene Hall (Law School)\, Jerome Greene Annex
DTSTAMP:20210221T33900Z
DTSTART;TZID=America/New_York:20180412T181500
DTEND;TZID=America/New_York:20180412T204500
SUMMARY:Uprising 13/13: Standing Ground/Standing Rock
DESCRIPTION:12/13 | STANDING GROUND/STANDING ROCK
END:VEVENT
END:VCALENDAR