BEGIN:VCALENDAR
VERSION:2.0
PRODID:-//ExpressionEngine Easy iCalendar plugin//NONSGML v1.1.1//EN
BEGIN:VEVENT
UID:event
LOCATION:\, Riverside Church's Assembly Hall
DTSTAMP:20210221T33800Z
DTSTART;TZID=America/New_York:20180426T181500
DTEND;TZID=America/New_York:20180426T204500
SUMMARY:Uprising 13/13: Counterrevolution
DESCRIPTION:13/13 | COUNTERREVOLUTION
END:VEVENT
END:VCALENDAR