BEGIN:VCALENDAR
VERSION:2.0
PRODID:-//ExpressionEngine Easy iCalendar plugin//NONSGML v1.1.1//EN
BEGIN:VEVENT
UID:event
LOCATION:The Schapiro Center\, Davis Auditorium
DTSTAMP:20210221T33200Z
DTSTART;TZID=America/New_York:20120410T181500
DTEND;TZID=America/New_York:
SUMMARY:Creating Rights in Holy Places: Some Reflections on the Hist
 ory of “Hindu” Law in India
DESCRIPTION:The annual History and Theory Lecture will feature Rosalind 
 O'Hanlon\, Professor in Indian History and Culture at the Uni
 versity of Oxford.
END:VEVENT
END:VCALENDAR