BEGIN:VCALENDAR
VERSION:2.0
PRODID:-//ExpressionEngine Easy iCalendar plugin//NONSGML v1.1.1//EN
BEGIN:VEVENT
UID:event
LOCATION:International Affairs Building\, 707 IAB (Lindsay Rogers Room
DTSTAMP:20210221T33900Z
DTSTART;TZID=America/New_York:20170928T161000
DTEND;TZID=America/New_York:20170928T180000
SUMMARY:Populism and Religion: Religious Populisms\, Right and Left\, 
 in Europe and the Americas
DESCRIPTION:Everyone seems to be writing on populism these days\, which i
 s unsurprising given the global rise of populist movements\, 
 parties\, and leaders. But the relationship of populism to re
 ligion remains understudied. In response\, IRCPL has organize
 d a three-part speaker series on Populism and Religion. With
  this series\, we aim to illuminate the broad yet distinctive
  nature of populism(s) by analyzing their region-specific hi
 stories\, the religious posturing of populist groups on both 
 sides of the political spectrum\, and the unique rhetorics us
 ed by populist movements to appeal to the general public.
END:VEVENT
END:VCALENDAR