BEGIN:VCALENDAR
VERSION:2.0
PRODID:-//ExpressionEngine Easy iCalendar plugin//NONSGML v1.1.1//EN
BEGIN:VEVENT
UID:event
LOCATION:Pulitzer Hall (formerly Journalism Hall)\, World Room
DTSTAMP:20210221T32600Z
DTSTART;TZID=America/New_York:20171102T160000
DTEND;TZID=America/New_York:
SUMMARY:Populism and Religion: The Popular and Elite Roots of Republ
 ican Extremism in the United States
DESCRIPTION:Everyone seems to be writing on populism these days\, which i
 s unsurprising given the global rise of populist movements\, 
 parties\, and leaders. But the relationship of populism to re
 ligion remains understudied. In response\, IRCPL has organize
 d a three-part speaker series on Populism and Religion. With
  this series\, we aim to illuminate the broad yet distinctive
  nature of populism(s) by analyzing their region-specific hi
 stories\, the religious posturing of populist groups on both 
 sides of the political spectrum\, and the unique rhetorics us
 ed by populist movements to appeal to the general public.
END:VEVENT
END:VCALENDAR