BEGIN:VCALENDAR
VERSION:2.0
PRODID:-//ExpressionEngine Easy iCalendar plugin//NONSGML v1.1.1//EN
BEGIN:VEVENT
UID:event
LOCATION:The Heyman Center\, Second Floor Common Room
DTSTAMP:20210221T33100Z
DTSTART;TZID=America/New_York:20171117T130000
DTEND;TZID=America/New_York:
SUMMARY:Jane Austen\, and Women Writers “At Home in the World”
DESCRIPTION:New Books in the Arts & Sciences: panel discussions celebrat
 ing recent work by the Columbia Faculty.\n\nAt Home In The Wor
 ld\n\nby Maria DiBattista and Deborah Nord\n\n&\n\nReading Jane
  Austen\n\nby Jenny Davidson
END:VEVENT
END:VCALENDAR