BEGIN:VCALENDAR
VERSION:2.0
PRODID:-//ExpressionEngine Easy iCalendar plugin//NONSGML v1.1.1//EN
BEGIN:VEVENT
UID:event
LOCATION:Miller Theatre\, Miller Theatre
DTSTAMP:20210221T32700Z
DTSTART;TZID=America/New_York:20171120T183000
DTEND;TZID=America/New_York:
SUMMARY:Orhan Pamuk
DESCRIPTION:Orhan Pamuk reads from his new novel\, The Red-Haired Woman\, 
 followed by a conversation with Bruce Robbins\, English and C
 omparative Literature
END:VEVENT
END:VCALENDAR