BEGIN:VCALENDAR
VERSION:2.0
PRODID:-//ExpressionEngine Easy iCalendar plugin//NONSGML v1.1.1//EN
BEGIN:VEVENT
UID:event
LOCATION:The Heyman Center\, Second Floor Common Room
DTSTAMP:20210221T32900Z
DTSTART;TZID=America/New_York:20171113T181500
DTEND;TZID=America/New_York:
SUMMARY:Celebrating Recent Work by Walter Frisch
DESCRIPTION:"Over the Rainbow" exploded into worldwide fame upon its per
 formance by Judy Garland in the MGM film musical The Wizard
  of Oz (1939). Voted the greatest song of the twentieth cen
 tury in a 2000 survey\, it is a masterful\, delicate balance o
 f sophistication and child-like simplicity in which composer
  Harold Arlen and lyricist E. Y. "Yip" Harburg poignantly ca
 ptured the hope and anxiety harbored by Dorothy's character.
  
END:VEVENT
END:VCALENDAR