BEGIN:VCALENDAR
VERSION:2.0
PRODID:-//ExpressionEngine Easy iCalendar plugin//NONSGML v1.1.1//EN
BEGIN:VEVENT
UID:event
LOCATION:The Kraft Center\, Rennert Hall
DTSTAMP:20210221T33400Z
DTSTART;TZID=America/New_York:20120328T181500
DTEND;TZID=America/New_York:
SUMMARY:An Anthropologist on Wall Street
DESCRIPTION:This installment of the Heyman Center's "Money Series" featu
 res Gillian Tett\, US managing editor of the Financial Times.
END:VEVENT
END:VCALENDAR