BEGIN:VCALENDAR
VERSION:2.0
PRODID:-//ExpressionEngine Easy iCalendar plugin//NONSGML v1.1.1//EN
BEGIN:VEVENT
UID:event
LOCATION:Low Memorial Library\, Low Library Rotunda
DTSTAMP:20210221T33400Z
DTSTART;TZID=America/New_York:20171011T170000
DTEND;TZID=America/New_York:20171011T190000
SUMMARY:Polarization\, Partisanship\, and the Future of the Constituti
 onal System
DESCRIPTION:Coming To Terms With A Polarized Society\n\n“Polarization\, P
 artisanship\, and the Future of the Constitutional System.”
 \n\nNolan McCarty\, Susan Dod Brown Professor of Politics and P
 ublic Affairs\, Princeton University.\n\nPanelists: \n\nFrances L
 ee\, Professor of Government and Politics\, University of Mary
 land.\n\nFrank Bruni\, Op-Ed Columnist\, New York Times.
END:VEVENT
END:VCALENDAR