BEGIN:VCALENDAR
VERSION:2.0
PRODID:-//ExpressionEngine Easy iCalendar plugin//NONSGML v1.1.1//EN
BEGIN:VEVENT
UID:event
LOCATION:Barnard Hall\, James Room
DTSTAMP:20210221T33200Z
DTSTART;TZID=America/New_York:20171101T170000
DTEND;TZID=America/New_York:20171101T190000
SUMMARY:Strangers in Their Own Land: Where Do We Go From Here?
DESCRIPTION:Coming To Terms With A Polarized Society\n\n"Strangers in Thei
 r Own Land: Where Do We Go From Here?"\n\nArlie R. Hochschild\,
  Professor of Sociology Emerita\, University of California\, B
 erkeley\n\nPanelists: \n\nFrederick Harris\, Dean of Social Scie
 nces and Professor of Political Science\, Columbia University
 \n\nNicholas Lemann\, Joseph Pulitzer II and Edith Pulitzer Moo
 re Professor of Journalism and Dean Emeritus of the Faculty 
 of Journalism\, Columbia University\; staff writer for the New
 \n\nYorker
END:VEVENT
END:VCALENDAR