BEGIN:VCALENDAR
VERSION:2.0
PRODID:-//ExpressionEngine Easy iCalendar plugin//NONSGML v1.1.1//EN
BEGIN:VEVENT
UID:event
LOCATION:Barnard Hall\, James Room
DTSTAMP:20210221T33900Z
DTSTART;TZID=America/New_York:20171109T170000
DTEND;TZID=America/New_York:20171109T190000
SUMMARY:Professional Journalism\, Polarization\, Post-Truth\, and Post-
 Trump
DESCRIPTION:Coming To Terms With A Polarized Society\n\n"Professional Jour
 nalism\, Polarization\, Post-Truth\, and Post-Trump"\n\nMichael S
 chudson\, Professor of Journalism\, Columbia University.\n\nPane
 lists:\n\nLeonard Downie\, Jr.\, Weil Family Professor of Journa
 lism\, Arizona State University\; Former Executive Editor\, Was
 hington Post\n\nBill Keller\, Editor-in-Chief\, The Marshall Pro
 ject\; Former Executive Editor\, New York Times
END:VEVENT
END:VCALENDAR