BEGIN:VCALENDAR
VERSION:2.0
PRODID:-//ExpressionEngine Easy iCalendar plugin//NONSGML v1.1.1//EN
BEGIN:VEVENT
UID:event
LOCATION:The Heyman Center\, Second Floor Common Room
DTSTAMP:20210221T33600Z
DTSTART;TZID=America/New_York:20171204T181500
DTEND;TZID=America/New_York:20171204T193000
SUMMARY:Celebrating Recent Work by Bruce Robbins
DESCRIPTION:New Books in the Arts & Sciences\n\n         —panel dis
 cussions celebrating recent work by the Columbia Faculty\n\nTh
 e Beneficiary\n\nby Bruce Robbins
END:VEVENT
END:VCALENDAR