BEGIN:VCALENDAR
VERSION:2.0
PRODID:-//ExpressionEngine Easy iCalendar plugin//NONSGML v1.1.1//EN
BEGIN:VEVENT
UID:event
LOCATION:The Heyman Center\, Second Floor Common Room
DTSTAMP:20210221T33300Z
DTSTART;TZID=America/New_York:20120321T160000
DTEND;TZID=America/New_York:
SUMMARY:Development and Empire
DESCRIPTION:This panel discussion will explore the hegemonic implication
 s resulting from the rise of international development initi
 atives.
END:VEVENT
END:VCALENDAR