BEGIN:VCALENDAR
VERSION:2.0
PRODID:-//ExpressionEngine Easy iCalendar plugin//NONSGML v1.1.1//EN
BEGIN:VEVENT
UID:event
LOCATION:The Heyman Center\, Second Floor Common Room
DTSTAMP:20210221T33300Z
DTSTART;TZID=America/New_York:20171115T181500
DTEND;TZID=America/New_York:20171115T203000
SUMMARY:American Models and Nazi Solutions: The Mechanics of Race La
 w
DESCRIPTION:The interconnections of migration\, law\, bureaucracy and race
  form the subject of some of the most exciting current resea
 rch into the Nazis in history. The American roots of Nationa
 l Socialism are explored by James Whitman\, one of tonight’
 s speakers and author of a study of the influences exerted u
 pon the Third Reich by interwar US immigration laws. Alongsi
 de Whitman\, Hans-Christian Jasch will speak about new insigh
 ts to be gleaned into the emergence of the wartime German ge
 nocide through a focus on the careers\, personalities and int
 ellectual outlooks of the civil servants who participated in
  the Wannsee Conference\, a key turning-point in the Final So
 lution of the Jewish Question. 
END:VEVENT
END:VCALENDAR