BEGIN:VCALENDAR
VERSION:2.0
PRODID:-//ExpressionEngine Easy iCalendar plugin//NONSGML v1.1.1//EN
BEGIN:VEVENT
UID:event
LOCATION:\, Italian Academy
DTSTAMP:20210221T33000Z
DTSTART;TZID=America/New_York:20180209T90000
DTEND;TZID=America/New_York:20180209T170000
SUMMARY:Sites of Religious Memory in an Age of Exodus - Central Medi
 terranean
DESCRIPTION:This day-long event is the second of a three-piece series th
 at focuses on the movement of people across and along the Me
 diterranean and the emergence\, re-signification\, and use of 
 sites of memory.
END:VEVENT
END:VCALENDAR