BEGIN:VCALENDAR
VERSION:2.0
PRODID:-//ExpressionEngine Easy iCalendar plugin//NONSGML v1.1.1//EN
BEGIN:VEVENT
UID:event
LOCATION:Casa Hispanica- 612 W. 116th Street
DTSTAMP:20210221T33900Z
DTSTART;TZID=America/New_York:20180406T90000
DTEND;TZID=America/New_York:20180406T170000
SUMMARY:Sites of Religious Memory in an Age of Exodus - Western Medi
 terranean
DESCRIPTION:Sites of Religious Memory in an Age of Exodus - Western Medi
 terranean
END:VEVENT
END:VCALENDAR