BEGIN:VCALENDAR
VERSION:2.0
PRODID:-//ExpressionEngine Easy iCalendar plugin//NONSGML v1.1.1//EN
BEGIN:VEVENT
UID:event
LOCATION:Barnard Hall\, 304 Held Lecture Hall
DTSTAMP:20210221T33900Z
DTSTART;TZID=America/New_York:20171016T181500
DTEND;TZID=America/New_York:20171016T200000
SUMMARY:A Symposium on the Photography of Raghubir Singh: Engagement
 s with “Modernism on the Ganges”
DESCRIPTION:Image Credit: Raghubir Singh\, Crawford Market\, Bombay\, 1
 993\; Copyright © Succession Raghubir Singh.\n\nA Symposi
 um on the Photography of Raghubir Singh: Engagements with "
 Modernism on the Ganges\," an Exhibition at the Met Breuer\n\nF
 eaturing:\n\nMax Kozloff\, former art critic for The Nation and
  executive editor of Artforum\, and photographer and writer\n\n
 Glenn Lowry\, Director\, Museum of Modern Art\, New York\, and w
 riter and art historian\n\nRam Rahman\, independent curator and
  photographer and founder member of SAHMAT collective
END:VEVENT
END:VCALENDAR