BEGIN:VCALENDAR
VERSION:2.0
PRODID:-//ExpressionEngine Easy iCalendar plugin//NONSGML v1.1.1//EN
BEGIN:VEVENT
UID:event
LOCATION:\, Hamilton 420
DTSTAMP:20210221T33100Z
DTSTART;TZID=America/New_York:20171004T170000
DTEND;TZID=America/New_York:
SUMMARY:Unnatural: Environmental Disasters and Domination in the Con
 temporary Caribbean
DESCRIPTION:A discussion with:\n\nNatasha Lightfoot\, Monxo Lopez\, Tami Na
 varro\, Frances Negrón-Muntaner\, Michael Ralph\, and Keisha I
 . Weil
END:VEVENT
END:VCALENDAR