BEGIN:VCALENDAR
VERSION:2.0
PRODID:-//ExpressionEngine Easy iCalendar plugin//NONSGML v1.1.1//EN
BEGIN:VEVENT
UID:event
LOCATION:The Heyman Center\, Second Floor Common Room
DTSTAMP:20210221T33100Z
DTSTART;TZID=America/New_York:20171114T153000
DTEND;TZID=America/New_York:
SUMMARY:The Roma People’s Project at Columbia University: Launch a
 nd Discussion
DESCRIPTION:On November 14\, research scholar Cristiana Grigore will 
 officially launch the Roma People’s Project (RPP) at Colum
 bia University in collaboration with the Heyman Center for
  the Humanities. With support from the Center for Justice at
  Columbia\, this initiative will spotlight the Roma people an
 d expand Roma studies by examining topics such as identity a
 nd stigma\, mobility and displacement\, and archival research 
 and digital scholarship. 
END:VEVENT
END:VCALENDAR