BEGIN:VCALENDAR
VERSION:2.0
PRODID:-//ExpressionEngine Easy iCalendar plugin//NONSGML v1.1.1//EN
BEGIN:VEVENT
UID:event
LOCATION:The Schapiro Center\, Davis Auditorium
DTSTAMP:20210221T32900Z
DTSTART;TZID=America/New_York:20120308T181500
DTEND;TZID=America/New_York:
SUMMARY:Debt: The Long View
DESCRIPTION:This discussion of debt and finance will explore how debt's 
 significance in our culture and society and how debt has cha
 nged over time.
END:VEVENT
END:VCALENDAR