BEGIN:VCALENDAR
VERSION:2.0
PRODID:-//ExpressionEngine Easy iCalendar plugin//NONSGML v1.1.1//EN
BEGIN:VEVENT
UID:event
LOCATION:Cowin Auditorium\, 147 Horace Mann Hall\, Teacher’s College
DTSTAMP:20210221T32800Z
DTSTART;TZID=America/New_York:20171207T83000
DTEND;TZID=America/New_York:20171208T000000
SUMMARY:The Success of Failure: Perspectives from the Arts\, Sciences
 \, Humanities\, Education\, and Law
DESCRIPTION:We are all familiar with the many bromides teaching us the v
 alue of failure on the path to success. It builds character\,
  shows perseverance and dedication\, demonstrates willingness
  to take a risk\, and so forth. All perhaps true\, but all con
 strained by a view of failure as a means to an end\, an unfor
 tunately necessary obstacle to be overcome. One may learn fr
 om failures\, but what is mostly meant is that one learns not
  to do that particular thing again. Failing is fine\, especia
 lly on someone else’s dime\, if you gain some experience to
  avoid future failures.
END:VEVENT
END:VCALENDAR