BEGIN:VCALENDAR
VERSION:2.0
PRODID:-//ExpressionEngine Easy iCalendar plugin//NONSGML v1.1.1//EN
BEGIN:VEVENT
UID:event
LOCATION:The Heyman Center\, Common Room
DTSTAMP:20210221T33400Z
DTSTART;TZID=America/New_York:20171110T93000
DTEND;TZID=America/New_York:20171110T171500
SUMMARY:Factions\, Fears\, and Fake News at Columbia University
DESCRIPTION:Panels will convene on two campuses in Dublin and New York C
 ity to discuss the current political climate. The first port
 ion of the event (November 6-7) will take place at Trinity\, 
 College Dublin and the second portion (November 9-10) will b
 e at Columbia.
END:VEVENT
END:VCALENDAR