BEGIN:VCALENDAR
VERSION:2.0
PRODID:-//ExpressionEngine Easy iCalendar plugin//NONSGML v1.1.1//EN
BEGIN:VEVENT
UID:event
LOCATION:\, Glicker Milstein Theatre
DTSTAMP:20210221T32700Z
DTSTART;TZID=America/New_York:20171023T120000
DTEND;TZID=America/New_York:
SUMMARY:A Body of Becketts
DESCRIPTION:Renowned Beckett interpreter Lisa Dwan introduces us to her 
 work with Samuel Beckett\, discussing her longstanding engage
 ment with his oeuvre. Drawing on her performances and person
 al insights from working with Billie Whitelaw to Walter Asmu
 s\, Dwan traces a narrative through Beckett's intense poetic 
 trajectory and the 'Beckettian’ aesthetic\, examining what 
 it costs those who seek to bring it to life.
END:VEVENT
END:VCALENDAR