BEGIN:VCALENDAR
VERSION:2.0
PRODID:-//ExpressionEngine Easy iCalendar plugin//NONSGML v1.1.1//EN
BEGIN:VEVENT
UID:event
LOCATION:The Heyman Center\, Second Floor Common Room
DTSTAMP:20210221T33300Z
DTSTART;TZID=America/New_York:20120307T181500
DTEND;TZID=America/New_York:
SUMMARY:Capitalism Today: Lessons from Europe
DESCRIPTION:This event will feature Robin Blackburn\, Professor of Sociol
 ogy at University of Essex\; Marxist economist Prabhat Patnai
 k\; and Robert Pollin\, Professor of Economics at University o
 f Massachusetts Amherst. Eric Foner\, DeWitt Clinton Professo
 r of History at Columbia University\, will chair.
END:VEVENT
END:VCALENDAR