BEGIN:VCALENDAR
VERSION:2.0
PRODID:-//ExpressionEngine Easy iCalendar plugin//NONSGML v1.1.1//EN
BEGIN:VEVENT
UID:event
LOCATION:The Schwartz Center for Economic Policy Analysis\, the New Sc
 hoolKellen Auditorium\, the New School\, 66 Fifth Ave (at 13th
  St)
DTSTAMP:20210221T33500Z
DTSTART;TZID=America/New_York:20120306T181500
DTEND;TZID=America/New_York:
SUMMARY:Is Imperialism a Useful Concept in an Age of Financial Globa
 lization?
DESCRIPTION:This event will feature Robin Blackburn\, Professor of Sociol
 ogy at University of Essex\; Marxist economist Prabhat Patnai
 k\; Robert Pollin\, Professor of Economics at University of Ma
 ssachusetts Amherst\; Anwar Shaikh\, Professor of Economics at
  the New School\; and Duncan Foley\, Professor of Economics at
  the New School.
END:VEVENT
END:VCALENDAR