BEGIN:VCALENDAR
VERSION:2.0
PRODID:-//ExpressionEngine Easy iCalendar plugin//NONSGML v1.1.1//EN
BEGIN:VEVENT
UID:event
LOCATION:\, Jerome Greene Annex
DTSTAMP:20210221T33800Z
DTSTART;TZID=America/New_York:20180122T163000
DTEND;TZID=America/New_York:20180122T183000
SUMMARY:Celebrating Recent Work by Jack Halberstam
DESCRIPTION:New Books in the Arts & Sciences—panel discussions celebra
 ting recent work by the Columbia Faculty.
END:VEVENT
END:VCALENDAR