BEGIN:VCALENDAR
VERSION:2.0
PRODID:-//ExpressionEngine Easy iCalendar plugin//NONSGML v1.1.1//EN
BEGIN:VEVENT
UID:event
LOCATION:The Heyman Center\, Second Floor Common Room
DTSTAMP:20210221T32800Z
DTSTART;TZID=America/New_York:20180209T121500
DTEND;TZID=America/New_York:
SUMMARY:Celebrating Recent Work by Leah Whittington and Michael Alla
 n
DESCRIPTION:New Books in the Society of Fellows\; Celebrating Recent Work
  by Leah Whittington and Michael Allan
END:VEVENT
END:VCALENDAR