BEGIN:VCALENDAR
VERSION:2.0
PRODID:-//ExpressionEngine Easy iCalendar plugin//NONSGML v1.1.1//EN
BEGIN:VEVENT
UID:event
LOCATION:Room 208\, Knox Hall
DTSTAMP:20210221T32700Z
DTSTART;TZID=America/New_York:20120301T90000
DTEND;TZID=America/New_York:20120302T000000
SUMMARY:Sites of Modernity—a two-day conference
DESCRIPTION:The Conference aims to provide an interdisciplinary forum fo
 r graduate students working on literature\, culture\, politics
 \, geography\, history\, media and film\, art\, philosophy\, and h
 istory of intellectualism in the Middle East\, South Asia\, an
 d Africa.
END:VEVENT
END:VCALENDAR