BEGIN:VCALENDAR
VERSION:2.0
PRODID:-//ExpressionEngine Easy iCalendar plugin//NONSGML v1.1.1//EN
BEGIN:VEVENT
UID:event
LOCATION:Butler Library\, 522/523
DTSTAMP:20210221T32700Z
DTSTART;TZID=America/New_York:20180412T181500
DTEND;TZID=America/New_York:
SUMMARY:Haunting Heroines: Greek Plays and Transnational Novels
DESCRIPTION:In two recent novels\,Â KamilaÂ ShamsieÂ andÂ ColmÂ TÃ³ibÃ­nÂ
  recreateÂ classical mythology to address contemporary audie
 nces and transnational subjects.Â KamilaÂ Shamsie'sÂ Home Fi
 reÂ brings the story of Antigone to the contemporary British
  PakistaniÂ community\, whileÂ ColmÂ TÃ³ibÃ­n'sÂ House of Nam
 esÂ re-imaginesÂ theÂ AgamemnonÂ tragedy from the points of 
 view of ClytemnestraÂ and Electra. These two authors will jo
 in each other in conversation to discuss their modern adapta
 tions of these Greek classics and to explore why these heroi
 nes continue to haunt writers and readers today. ChrisMorash
 Â will moderateÂ the discussion.
END:VEVENT
END:VCALENDAR