BEGIN:VCALENDAR
VERSION:2.0
PRODID:-//ExpressionEngine Easy iCalendar plugin//NONSGML v1.1.1//EN
BEGIN:VEVENT
UID:event
LOCATION:\, Tishman Auditorium at NYU School of Law\, 40 Washington Squ
 are South New York\, New York 10012
DTSTAMP:20210221T33900Z
DTSTART;TZID=America/New_York:20171107T93000
DTEND;TZID=America/New_York:
SUMMARY:The Big Picture: Whatâ€™s at Stake in Trumpâ€™s America
DESCRIPTION:Public BooksÂ and NYUâ€™s Institute for Public Knowledge inv
 ite you to join us forÂ an all-day symposiumÂ investigating 
 the rise of Trump and Americaâ€™s turn toward authoritarian 
 rule. This symposium is the culminating event to a series of
  essays to be published onÂ Public BooksÂ in the weeks prece
 ding the event\, in which leading intellectuals address whatâ
 €™s at stake in Trumpâ€™s America for a wide range of topics
 . Several of these contributors\, listed below\, will be prese
 nt in conversation with other prominent scholars.
END:VEVENT
END:VCALENDAR