BEGIN:VCALENDAR
VERSION:2.0
PRODID:-//ExpressionEngine Easy iCalendar plugin//NONSGML v1.1.1//EN
BEGIN:VEVENT
UID:event
LOCATION:International Affairs Building
DTSTAMP:20210221T32700Z
DTSTART;TZID=America/New_York:20171207T83000
DTEND;TZID=America/New_York:20171210T193000
SUMMARY:Present Past: Time\, Memory\, and the Negotiation of Historica
 l Justice
DESCRIPTION:In considering the politics and policies of commemorating th
 e past\, this conference probes how public discourses about m
 emory change over time.
END:VEVENT
END:VCALENDAR