BEGIN:VCALENDAR
VERSION:2.0
PRODID:-//ExpressionEngine Easy iCalendar plugin//NONSGML v1.1.1//EN
BEGIN:VEVENT
UID:event
LOCATION:The Heyman Center\, Second Floor Common Room
DTSTAMP:20210221T33700Z
DTSTART;TZID=America/New_York:20120228T173000
DTEND;TZID=America/New_York:
SUMMARY:The Blinken European Institute Presents: The Future of Europ
 ean Labor Relations
DESCRIPTION:Professor Visser's talk on "European Labor Relations\, the Eu
 ro\, and State Intervention: The Decentralization Paradox" is
  part of the ongoing series "Bringing Back Political Economy
 : Europe\, Ground Zero" co-sponsored by the Blinken European 
 Institute and the Heyman Center for the Humanities.
END:VEVENT
END:VCALENDAR