BEGIN:VCALENDAR
VERSION:2.0
PRODID:-//ExpressionEngine Easy iCalendar plugin//NONSGML v1.1.1//EN
BEGIN:VEVENT
UID:event
LOCATION:\, 413 Dodge Hall
DTSTAMP:20210221T33700Z
DTSTART;TZID=America/New_York:20171121T190000
DTEND;TZID=America/New_York:
SUMMARY:We Will All Get Out of Here Alive
DESCRIPTION:In his first appearance in the United States since fleeing p
 ersecution in his home country of Georgia\, internationally r
 enowned poet/novelist/screenwriter David Dephy Gogibedashv
 ili will read selections from his politically and culturall
 y explosive\, anti-authoritarian work. Following the reading\,
  Dephy will discuss the relationship between Russian and W
 estern influences on his country and the role each has playe
 d in creating the current tensions in Eurasia with Slavic-la
 nguage translator Bela Shayevich.
END:VEVENT
END:VCALENDAR